BEGIN:VCALENDAR
VERSION:2.0
PRODID:-//pretix//pretix.eu//
BEGIN:VTIMEZONE
TZID:Europe/Berlin
BEGIN:STANDARD
DTSTART:20001029T040000
RRULE:FREQ=YEARLY;BYDAY=-1SU;BYMONTH=10
TZNAME:CET
TZOFFSETFROM:+0200
TZOFFSETTO:+0100
END:STANDARD
BEGIN:DAYLIGHT
DTSTART:20000326T030000
RRULE:FREQ=YEARLY;BYDAY=-1SU;BYMONTH=3
TZNAME:CEST
TZOFFSETFROM:+0100
TZOFFSETTO:+0200
END:DAYLIGHT
END:VTIMEZONE
BEGIN:VEVENT
UID:pretix-wvw-acro-dm-0@tickets.acro-dm.de
DTSTART;TZID=Europe/Berlin:20260607T093000
DTEND;TZID=Europe/Berlin:20260607T103000
DESCRIPTION:Tickets: https://tickets.acro-dm.de/\nEinlass: 07.06.2026 09:00
 \nVeranstalter: Weissinger Vermögensverwaltungs GmbH
DTSTAMP:20260423T084914Z
LOCATION:EWS Arena Göppingen
SUMMARY:Deutsche Sportakrobatik Meisterschaft 2026
END:VEVENT
END:VCALENDAR
